BEGIN:VCALENDAR
VERSION:2.0
PRODID:SchoolNow
CALSCALE:GREGORIAN
BEGIN:VEVENT
UID:86a1e64c-a5f4-11ef-8519-0a58a9feac02
DTSTAMP:20241118T213152Z
SUMMARY:End of 3rd Quarter
URL;VALUE=URI:https://www.ronank12.edu/schools/pablo/calendar/7043951/end-o
 f-3rd-quarter
DTSTART;VALUE=DATE:20250404
DTEND;VALUE=DATE:20250405
END:VEVENT
END:VCALENDAR
