BEGIN:VCALENDAR
VERSION:2.0
PRODID:SchoolNow
CALSCALE:GREGORIAN
BEGIN:VEVENT
UID:a469ade0-a5f4-11ef-82dd-0e811680065d
DTSTAMP:20241118T213242Z
SUMMARY:No School - Spring Break
URL;VALUE=URI:https://www.ronank12.edu/schools/pablo/calendar/7043963/no-sc
 hool-spring-break
DTSTART;VALUE=DATE:20250418
DTEND;VALUE=DATE:20250422
END:VEVENT
END:VCALENDAR
