BEGIN:VCALENDAR
VERSION:2.0
PRODID:SchoolNow
CALSCALE:GREGORIAN
BEGIN:VEVENT
UID:1e5da4da-a5f5-11ef-b188-028c54618209
DTSTAMP:20241118T213606Z
SUMMARY:Early Release 12:00
URL;VALUE=URI:https://www.ronank12.edu/schools/pablo/calendar/7043964/early
 -release-12-00
DTSTART;VALUE=DATE:20250516
DTEND;VALUE=DATE:20250517
END:VEVENT
END:VCALENDAR
