BEGIN:VCALENDAR
VERSION:2.0
PRODID:SchoolNow
CALSCALE:GREGORIAN
BEGIN:VEVENT
UID:2fa0184a-a5f5-11ef-a472-0affd76c3d73
DTSTAMP:20241118T213635Z
SUMMARY:Early Release 12:00
URL;VALUE=URI:https://www.ronank12.edu/schools/pablo/calendar/7043965/early
 -release-12-00
DTSTART;VALUE=DATE:20250523
DTEND;VALUE=DATE:20250524
END:VEVENT
END:VCALENDAR
