BEGIN:VCALENDAR
VERSION:2.0
PRODID:SchoolNow
CALSCALE:GREGORIAN
BEGIN:VEVENT
UID:41244870-a5f5-11ef-9bb3-0a58a9feac02
DTSTAMP:20241118T213705Z
SUMMARY:No School Memorial Day
URL;VALUE=URI:https://www.ronank12.edu/schools/pablo/calendar/7043966/no-sc
 hool-memorial-day
DTSTART;VALUE=DATE:20250526
DTEND;VALUE=DATE:20250527
END:VEVENT
END:VCALENDAR
