BEGIN:VCALENDAR
VERSION:2.0
PRODID:SchoolNow
CALSCALE:GREGORIAN
BEGIN:VEVENT
UID:62d78112-a5f5-11ef-b5b1-0a58a9feac02
DTSTAMP:20241118T213801Z
SUMMARY:Early Release 12:00\, Last Day of School/4th Quarter
URL;VALUE=URI:https://www.ronank12.edu/schools/pablo/calendar/7043967/early
 -release-12-00-last-day-of-school-4th-quarter
DTSTART;VALUE=DATE:20250606
DTEND;VALUE=DATE:20250607
END:VEVENT
END:VCALENDAR
