BEGIN:VCALENDAR
VERSION:2.0
PRODID:SchoolNow
CALSCALE:GREGORIAN
BEGIN:VEVENT
UID:8973df9a-7c4c-11f0-9471-0affe844e53d
DTSTAMP:20250818T161233Z
SUMMARY:First Day of School -  8:00 a.m. - 3:00 p.m.
URL;VALUE=URI:https://www.ronank12.edu/schools/pablo/calendar/8518809/first
 -day-of-school
DTSTART;VALUE=DATE:20250826
DTEND;VALUE=DATE:20250827
END:VEVENT
END:VCALENDAR
