BEGIN:VCALENDAR
VERSION:2.0
PRODID:SchoolNow
CALSCALE:GREGORIAN
BEGIN:VEVENT
UID:cdfae640-7c4c-11f0-a427-0afff983aa55
DTSTAMP:20250818T161215Z
SUMMARY:No School - Labor Day
URL;VALUE=URI:https://www.ronank12.edu/schools/pablo/calendar/8518810/no-sc
 hool-labor-day
DTSTART;VALUE=DATE:20250901
DTEND;VALUE=DATE:20250902
END:VEVENT
END:VCALENDAR
