BEGIN:VCALENDAR
VERSION:2.0
PRODID:SchoolNow
CALSCALE:GREGORIAN
BEGIN:VEVENT
UID:fc4965f8-7c4c-11f0-98d0-022e31aca1f7
DTSTAMP:20250818T161203Z
SUMMARY:No School - Tribal PIR
URL;VALUE=URI:https://www.ronank12.edu/schools/pablo/calendar/8518811/no-sc
 hool-tribal-pir
DTSTART;VALUE=DATE:20250915
DTEND;VALUE=DATE:20250916
END:VEVENT
END:VCALENDAR
