BEGIN:VCALENDAR
VERSION:2.0
PRODID:SchoolNow
CALSCALE:GREGORIAN
BEGIN:VEVENT
UID:2671b4f2-7c4d-11f0-ae83-02efef4a7877
DTSTAMP:20250818T161145Z
SUMMARY:Breakfast With Books 7:30  - 8:00
URL;VALUE=URI:https://www.ronank12.edu/schools/pablo/calendar/8518812/break
 fast-with-books-7-30-a-m-8-00-a-m
DTSTART;VALUE=DATE:20250926
DTEND;VALUE=DATE:20250927
END:VEVENT
END:VCALENDAR
