BEGIN:VCALENDAR
VERSION:2.0
PRODID:SchoolNow
CALSCALE:GREGORIAN
BEGIN:VEVENT
UID:4854f58e-7c4d-11f0-a66b-0a58a9feac02
DTSTAMP:20250818T160621Z
SUMMARY:Early Release 12:00 Noon
URL;VALUE=URI:https://www.ronank12.edu/schools/pablo/calendar/8518813/early
 -release-12-00-noon
DTSTART;VALUE=DATE:20251003
DTEND;VALUE=DATE:20251004
END:VEVENT
END:VCALENDAR
