BEGIN:VCALENDAR
VERSION:2.0
PRODID:SchoolNow
CALSCALE:GREGORIAN
BEGIN:VEVENT
UID:bf5f3d56-7c4d-11f0-949f-025850da6195
DTSTAMP:20250818T161739Z
SUMMARY:No School -  State Educator Conference
URL;VALUE=URI:https://www.ronank12.edu/schools/pablo/calendar/8518815/no-sc
 hool-state-educator-conference
DTSTART;VALUE=DATE:20251016
DTEND;VALUE=DATE:20251018
END:VEVENT
END:VCALENDAR
