BEGIN:VCALENDAR
VERSION:2.0
PRODID:SchoolNow
CALSCALE:GREGORIAN
BEGIN:VEVENT
UID:4b9cc8ce-7c4e-11f0-a15d-0affc1bf85c7
DTSTAMP:20250818T161336Z
SUMMARY:End of 1st Quarter
URL;VALUE=URI:https://www.ronank12.edu/schools/pablo/calendar/8518817/end-o
 f-1st-quarter
DTSTART;VALUE=DATE:20251031
DTEND;VALUE=DATE:20251101
END:VEVENT
END:VCALENDAR
