BEGIN:VCALENDAR
VERSION:2.0
PRODID:SchoolNow
CALSCALE:GREGORIAN
BEGIN:VEVENT
UID:7cccdede-7c4e-11f0-84b1-0affc1bf85c7
DTSTAMP:20250818T161537Z
SUMMARY:Parent Teacher Conferences
URL;VALUE=URI:https://www.ronank12.edu/schools/pablo/calendar/8518821/paren
 t-teachers-conferences
DTSTART;VALUE=DATE:20251113
DTEND;VALUE=DATE:20251115
END:VEVENT
END:VCALENDAR
