BEGIN:VCALENDAR
VERSION:2.0
PRODID:SchoolNow
CALSCALE:GREGORIAN
BEGIN:VEVENT
UID:eda97798-7c4e-11f0-97c0-0a58a9feac02
DTSTAMP:20250818T161808Z
SUMMARY:Early Release - Noon
URL;VALUE=URI:https://www.ronank12.edu/schools/pablo/calendar/8518825/early
 -release-noon
DTSTART;VALUE=DATE:20251015
DTEND;VALUE=DATE:20251016
END:VEVENT
END:VCALENDAR
