BEGIN:VCALENDAR
VERSION:2.0
PRODID:SchoolNow
CALSCALE:GREGORIAN
BEGIN:VEVENT
UID:0e9efbb2-7c4f-11f0-bd14-0a58a9feac02
DTSTAMP:20250818T161903Z
SUMMARY:Early Release - Noon
URL;VALUE=URI:https://www.ronank12.edu/schools/pablo/calendar/8518826/early
 -release-noon
DTSTART;VALUE=DATE:20251126
DTEND;VALUE=DATE:20251127
END:VEVENT
END:VCALENDAR
