BEGIN:VCALENDAR
VERSION:2.0
PRODID:SchoolNow
CALSCALE:GREGORIAN
BEGIN:VEVENT
UID:20a5270a-7c4f-11f0-ae6f-0a58a9feac02
DTSTAMP:20250818T161934Z
SUMMARY:No School - Thanksgiving Break
URL;VALUE=URI:https://www.ronank12.edu/schools/pablo/calendar/8518827/no-sc
 hool-thanksgiving-break
DTSTART;VALUE=DATE:20251127
DTEND;VALUE=DATE:20251129
END:VEVENT
END:VCALENDAR
