BEGIN:VCALENDAR
VERSION:2.0
PRODID:SchoolNow
CALSCALE:GREGORIAN
BEGIN:VEVENT
UID:5cd13764-7c4f-11f0-a51a-0affc1bf85c7
DTSTAMP:20250818T162114Z
SUMMARY:Early Release - Noon
URL;VALUE=URI:https://www.ronank12.edu/schools/pablo/calendar/8518830/early
 -release-noon
DTSTART;VALUE=DATE:20251223
DTEND;VALUE=DATE:20251224
END:VEVENT
END:VCALENDAR
