BEGIN:VCALENDAR
VERSION:2.0
PRODID:SchoolNow
CALSCALE:GREGORIAN
BEGIN:VEVENT
UID:7bad1856-7c4f-11f0-b70c-0affc8c049ad
DTSTAMP:20250818T162206Z
SUMMARY:No School - Christmas Break
URL;VALUE=URI:https://www.ronank12.edu/schools/pablo/calendar/8518832/no-sc
 hool-christmas-break
DTSTART;VALUE=DATE:20251224
DTEND;VALUE=DATE:20260105
END:VEVENT
END:VCALENDAR
