BEGIN:VCALENDAR
VERSION:2.0
PRODID:SchoolNow
CALSCALE:GREGORIAN
BEGIN:VEVENT
UID:a89c2730-7c4f-11f0-9966-0a58a9feac02
DTSTAMP:20250818T162322Z
SUMMARY:End of 2nd Quarter
URL;VALUE=URI:https://www.ronank12.edu/schools/pablo/calendar/8518835/end-o
 f-2nd-quarter
DTSTART;VALUE=DATE:20260116
DTEND;VALUE=DATE:20260117
END:VEVENT
END:VCALENDAR
