BEGIN:VCALENDAR
VERSION:2.0
PRODID:SchoolNow
CALSCALE:GREGORIAN
BEGIN:VEVENT
UID:c96d3a80-7c4f-11f0-9a4c-0a58a9feac02
DTSTAMP:20250818T162417Z
SUMMARY:No School - MLK Jr. Day
URL;VALUE=URI:https://www.ronank12.edu/schools/pablo/calendar/8518836/no-sc
 hool-mlk-jr-day
DTSTART;VALUE=DATE:20260119
DTEND;VALUE=DATE:20260120
END:VEVENT
END:VCALENDAR
