BEGIN:VCALENDAR
VERSION:2.0
PRODID:SchoolNow
CALSCALE:GREGORIAN
BEGIN:VEVENT
UID:ed6b76f4-7c4f-11f0-9b27-0a58a9feac02
DTSTAMP:20250818T162517Z
SUMMARY:Breakfast With Books - 7:30 - 8:00
URL;VALUE=URI:https://www.ronank12.edu/schools/pablo/calendar/8518839/break
 fast-with-books-7-30-8-00
DTSTART;VALUE=DATE:20260206
DTEND;VALUE=DATE:20260207
END:VEVENT
END:VCALENDAR
