BEGIN:VCALENDAR
VERSION:2.0
PRODID:SchoolNow
CALSCALE:GREGORIAN
BEGIN:VEVENT
UID:0ebeefde-7c50-11f0-9ff4-0affe844e53d
DTSTAMP:20250818T162613Z
SUMMARY:Early Release - 12:00 Noon
URL;VALUE=URI:https://www.ronank12.edu/schools/pablo/calendar/8518840/early
 -release-12-00-noon
DTSTART;VALUE=DATE:20260220
DTEND;VALUE=DATE:20260221
END:VEVENT
END:VCALENDAR
