BEGIN:VCALENDAR
VERSION:2.0
PRODID:SchoolNow
CALSCALE:GREGORIAN
BEGIN:VEVENT
UID:a7833cc0-7c50-11f0-b6cd-02eb822844bf
DTSTAMP:20250818T163029Z
SUMMARY:End of 3rd Quarter
URL;VALUE=URI:https://www.ronank12.edu/schools/pablo/calendar/8518848/end-o
 f-3rd-quarter
DTSTART;VALUE=DATE:20260320
DTEND;VALUE=DATE:20260321
END:VEVENT
END:VCALENDAR
