BEGIN:VCALENDAR
VERSION:2.0
PRODID:SchoolNow
CALSCALE:GREGORIAN
BEGIN:VEVENT
UID:0a76e250-7c51-11f0-8529-0a58a9feac02
DTSTAMP:20250818T163315Z
SUMMARY:No School - Spring Break
URL;VALUE=URI:https://www.ronank12.edu/schools/pablo/calendar/8518852/no-sc
 hool-spring-break
DTSTART;VALUE=DATE:20260403
DTEND;VALUE=DATE:20260407
END:VEVENT
END:VCALENDAR
