BEGIN:VCALENDAR
VERSION:2.0
PRODID:SchoolNow
CALSCALE:GREGORIAN
BEGIN:VEVENT
UID:27a814ac-7c51-11f0-aeeb-029f65b6582b
DTSTAMP:20250818T163404Z
SUMMARY:Early Release - 12:00 Noon
URL;VALUE=URI:https://www.ronank12.edu/schools/pablo/calendar/8518853/early
 -release-12-00-noon
DTSTART;VALUE=DATE:20260424
DTEND;VALUE=DATE:20260425
END:VEVENT
END:VCALENDAR
