BEGIN:VCALENDAR
VERSION:2.0
PRODID:SchoolNow
CALSCALE:GREGORIAN
BEGIN:VEVENT
UID:478ac3fa-7c51-11f0-9c8a-0affe844e53d
DTSTAMP:20250818T163458Z
SUMMARY:No School
URL;VALUE=URI:https://www.ronank12.edu/schools/pablo/calendar/8518855/no-sc
 hool
DTSTART;VALUE=DATE:20260508
DTEND;VALUE=DATE:20260509
END:VEVENT
END:VCALENDAR
