BEGIN:VCALENDAR
VERSION:2.0
PRODID:SchoolNow
CALSCALE:GREGORIAN
BEGIN:VEVENT
UID:62fd5cce-7c51-11f0-8674-0afff983aa55
DTSTAMP:20250818T163544Z
SUMMARY:No School
URL;VALUE=URI:https://www.ronank12.edu/schools/pablo/calendar/8518857/no-sc
 hool
DTSTART;VALUE=DATE:20260522
DTEND;VALUE=DATE:20260523
END:VEVENT
END:VCALENDAR
