BEGIN:VCALENDAR
VERSION:2.0
PRODID:SchoolNow
CALSCALE:GREGORIAN
BEGIN:VEVENT
UID:8baa6144-7c51-11f0-8448-0a58a9feac02
DTSTAMP:20250818T163652Z
SUMMARY:No School - Memorial Day
URL;VALUE=URI:https://www.ronank12.edu/schools/pablo/calendar/8518860/no-sc
 hool-memorial-day
DTSTART;VALUE=DATE:20260525
DTEND;VALUE=DATE:20260526
END:VEVENT
END:VCALENDAR
