BEGIN:VCALENDAR
VERSION:2.0
PRODID:SchoolNow
CALSCALE:GREGORIAN
BEGIN:VEVENT
UID:b020c50e-7c51-11f0-9e9c-0e8b14fcf377
DTSTAMP:20250818T163753Z
SUMMARY:Last Day of School/End of 4th Quarter/ Early Release - 12:00 Noon
URL;VALUE=URI:https://www.ronank12.edu/schools/pablo/calendar/8518861/last-
 day-of-school-end-of-4th-quarter-early-release-12-00-noon
DTSTART;VALUE=DATE:20260605
DTEND;VALUE=DATE:20260606
END:VEVENT
END:VCALENDAR
